BEGIN:VCALENDAR
VERSION:2.0
PRODID:-//MAPC - ECPv6.11.0.1//NONSGML v1.0//EN
CALSCALE:GREGORIAN
METHOD:PUBLISH
X-ORIGINAL-URL:https://www.mapc.org
X-WR-CALDESC:Events for MAPC
REFRESH-INTERVAL;VALUE=DURATION:PT1H
X-Robots-Tag:noindex
X-PUBLISHED-TTL:PT1H
BEGIN:VTIMEZONE
TZID:America/New_York
BEGIN:DAYLIGHT
TZOFFSETFROM:-0500
TZOFFSETTO:-0400
TZNAME:EDT
DTSTART:20250309T070000
END:DAYLIGHT
BEGIN:STANDARD
TZOFFSETFROM:-0400
TZOFFSETTO:-0500
TZNAME:EST
DTSTART:20251102T060000
END:STANDARD
END:VTIMEZONE
BEGIN:VEVENT
DTSTART;TZID=America/New_York:20251211T120000
DTEND;TZID=America/New_York:20251211T133000
DTSTAMP:20260420T085934
CREATED:20251120T205829Z
LAST-MODIFIED:20251120T210615Z
UID:25407-1765454400-1765459800@www.mapc.org
SUMMARY:ACR Speaker Series: Decision-Making Tools for Heat and Stormwater Mitigation with the Smart Surfaces Coalition
DESCRIPTION:The Accelerating Climate Resilience (ACR) Speaker Series is back for another year! \nDecision-Making Tools for Heat and Stormwater Mitigation with the Smart Surfaces Coalition\nThursday\, December 11\, 2025 | 12:00 p.m.\, via Zoom \nThis webinar will preview tools and resources developed by the Metropolitan Area Planning Council (MAPC) and the Smart Surfaces Coalition (SSC) to help municipalities\, non-profits\, and other stakeholders make decisions on extreme heat and stormwater mitigation. \nMAPC will present the Cool Roofs Toolkit and SSC will demo their Benefit Cost Analysis Tool\, Decision Support Tool\, and Smart Surfaces Policy Tracker. \nRegister for this Webinar \nVisit the ACR Speakers Series Webpage
URL:https://www.mapc.org/event/acr-speaker-series-decision-making-tools-for-heat-and-stormwater-mitigation-with-the-smart-surfaces-coalition/
CATEGORIES:Clean Energy,Environment,Environment
ATTACH;FMTTYPE=image/png:https://www.mapc.org/wp-content/uploads/2025/11/ACR-Speaker-Series-Page-Header.png
END:VEVENT
END:VCALENDAR