BEGIN:VCALENDAR
VERSION:2.0
PRODID:-//MAPC - ECPv6.11.0.1//NONSGML v1.0//EN
CALSCALE:GREGORIAN
METHOD:PUBLISH
X-WR-CALNAME:MAPC
X-ORIGINAL-URL:https://www.mapc.org
X-WR-CALDESC:Events for MAPC
REFRESH-INTERVAL;VALUE=DURATION:PT1H
X-Robots-Tag:noindex
X-PUBLISHED-TTL:PT1H
BEGIN:VTIMEZONE
TZID:America/New_York
BEGIN:DAYLIGHT
TZOFFSETFROM:-0500
TZOFFSETTO:-0400
TZNAME:EDT
DTSTART:20240310T070000
END:DAYLIGHT
BEGIN:STANDARD
TZOFFSETFROM:-0400
TZOFFSETTO:-0500
TZNAME:EST
DTSTART:20241103T060000
END:STANDARD
END:VTIMEZONE
BEGIN:VEVENT
DTSTART;TZID=America/New_York:20241017T083000
DTEND;TZID=America/New_York:20241017T123000
DTSTAMP:20260424T102222
CREATED:20240920T160533Z
LAST-MODIFIED:20240920T160533Z
UID:21289-1729153800-1729168200@www.mapc.org
SUMMARY:2024 MetroWest Trails Summit
DESCRIPTION:The MetroWest Regional Collaborative (MWRC) and MAPC invite you to join us for our annual Trails Summit\, hosted this year by the Town of Ashland. \nThe forum will provide an update on regional trail accomplishments and share progress in Ashland\, including the Upper Charles Trail. Our overall goal is to continue developing and completing a regional trail network that serves diverse communities. \nFind the tentative agenda and accessibility information on the registration page. \nRegister to Join Us \nPlease register if you plan on joining us so that we can plan adequate breakfast and logistics.
URL:https://www.mapc.org/event/2024-metrowest-trails-summit/
LOCATION:Ashland Community Center\, 162 W Union St\, Ashland\, MA
CATEGORIES:Subregions,Community Engagement,Environment
ATTACH;FMTTYPE=image/jpeg:https://www.mapc.org/wp-content/uploads/2024/09/20231026_121024-scaled.jpg
END:VEVENT
BEGIN:VEVENT
DTSTART;TZID=America/New_York:20241017T120000
DTEND;TZID=America/New_York:20241017T130000
DTSTAMP:20260424T102222
CREATED:20240826T155732Z
LAST-MODIFIED:20240826T155820Z
UID:21043-1729166400-1729170000@www.mapc.org
SUMMARY:Community Engagement Conversations | Conducting a Stakeholder Analysis
DESCRIPTION:This session of the Community Engagement Conversations series\, will focus on how to engage different voices when considering your strategic direction and plans. \nRegister \n\nThe Series:\nThe MAPC Community Engagement Team invites you to attend a series of Community Engagement Conversations between September 2024 through May 2025. \nThe once-a-month conversations will focus on different community engagement topics to support this work within your own community and introduce you to the services MAPC offers when you work with the MAPC Community Engagement Team. \nYou can learn more about each session of the series by visiting the Community Engagement Conversations webpage.  \nYou can register for as many of the sessions that you are interested in on one form. Register now!
URL:https://www.mapc.org/event/community-engagement-conversations-conducting-a-stakeholder-analysis/
LOCATION:Zoom (Virtual)
CATEGORIES:Community Engagement
ATTACH;FMTTYPE=image/png:https://www.mapc.org/wp-content/uploads/2024/08/CommunityEngagement_ConversationSeriesHeader.png
END:VEVENT
BEGIN:VEVENT
DTSTART;TZID=America/New_York:20241023T130000
DTEND;TZID=America/New_York:20241023T143000
DTSTAMP:20260424T102222
CREATED:20241017T154726Z
LAST-MODIFIED:20241017T154726Z
UID:21554-1729688400-1729693800@www.mapc.org
SUMMARY:GBCAP Workshop: Agriculture and Natural Lands (virtual)
DESCRIPTION:Join us for this workshop\, hosted as part of the Greater Boston Climate Action Plan (GBCAP). \nThe Agriculture and Natural Lands sector encompasses a wide variety of subsectors including agriculture\, fishing/fisheries\, forestry\, and land conservation and preservation. Activities in this sector can both contribute to GHG emissions\, as well as provide carbon sinks and numerous co-benefits. During the 1.5 hour long virtual workshop we will hear from leaders from the region on this topic. We will also brainstorm strategies and actions for reducing emissions at the local and regional level\, as well as discuss equity and co-benefits associated with these actions. \nRegister for this Workshop
URL:https://www.mapc.org/event/gbcap-workshop-agriculture-and-natural-lands-virtual/
LOCATION:Zoom (Virtual)
CATEGORIES:Subregions,Community Engagement,Clean Energy,Environment
ATTACH;FMTTYPE=image/png:https://www.mapc.org/wp-content/uploads/2024/01/Greater-Boston-Climate-Action-Plan.png
END:VEVENT
BEGIN:VEVENT
DTSTART;TZID=America/New_York:20241024T100000
DTEND;TZID=America/New_York:20241024T120000
DTSTAMP:20260424T102222
CREATED:20241017T155233Z
LAST-MODIFIED:20241017T155233Z
UID:21556-1729764000-1729771200@www.mapc.org
SUMMARY:GBCAP Workshop: Waste and Materials Management (in-person)
DESCRIPTION:Join us for this workshop\, hosted as part of the Greater Boston Climate Action Plan (GBCAP). \nAre you working towards zero waste goals? Interested in circular economy? Love compost? During the 2-hour-long in-person workshop we will hear from leaders from the region on waste. We will also brainstorm strategies and actions for reducing emissions from waste at the local and regional level\, as well as discuss equity and co-benefits associated with these actions. \nRegister for this Workshop \nUnable to attend in person? A separate virtual session will be held in November.
URL:https://www.mapc.org/event/gbcap-workshop-waste-and-materials-management-in-person/
LOCATION:Lexington Community Center\, 39 Marrett Rd\, Lexington\, MA
CATEGORIES:Subregions,Community Engagement,Clean Energy,Environment
ATTACH;FMTTYPE=image/png:https://www.mapc.org/wp-content/uploads/2024/01/Greater-Boston-Climate-Action-Plan.png
END:VEVENT
END:VCALENDAR