BEGIN:VCALENDAR
VERSION:2.0
PRODID:-//MAPC - ECPv6.11.0.1//NONSGML v1.0//EN
CALSCALE:GREGORIAN
METHOD:PUBLISH
X-WR-CALNAME:MAPC
X-ORIGINAL-URL:https://www.mapc.org
X-WR-CALDESC:Events for MAPC
REFRESH-INTERVAL;VALUE=DURATION:PT1H
X-Robots-Tag:noindex
X-PUBLISHED-TTL:PT1H
BEGIN:VTIMEZONE
TZID:America/New_York
BEGIN:DAYLIGHT
TZOFFSETFROM:-0500
TZOFFSETTO:-0400
TZNAME:EDT
DTSTART:20250309T070000
END:DAYLIGHT
BEGIN:STANDARD
TZOFFSETFROM:-0400
TZOFFSETTO:-0500
TZNAME:EST
DTSTART:20251102T060000
END:STANDARD
END:VTIMEZONE
BEGIN:VEVENT
DTSTART;TZID=America/New_York:20250107T090000
DTEND;TZID=America/New_York:20250107T103000
DTSTAMP:20260420T090108
CREATED:20241203T155436Z
LAST-MODIFIED:20241203T155436Z
UID:22056-1736240400-1736245800@www.mapc.org
SUMMARY:MAGIC January 2025 Meeting
DESCRIPTION:Please join the Minuteman Advisory Group on Interlocal Coordination (MAGIC) for their monthly meeting. Meeting agendas and more information can be found on the MAGIC webpage ahead of time.
URL:https://www.mapc.org/event/magic-january-2025-meeting/
LOCATION:to be determined
CATEGORIES:Subregions,Community Engagement
ATTACH;FMTTYPE=image/jpeg:https://www.mapc.org/wp-content/uploads/2018/03/MAGIC-logo-a.jpg
END:VEVENT
BEGIN:VEVENT
DTSTART;TZID=America/New_York:20250115T090000
DTEND;TZID=America/New_York:20250115T110000
DTSTAMP:20260420T090108
CREATED:20241125T183204Z
LAST-MODIFIED:20241125T183204Z
UID:22001-1736931600-1736938800@www.mapc.org
SUMMARY:ICC January 2025 Meeting
DESCRIPTION:Join the Inner Core Committee (ICC) for their January meeting. More information including the meeting agenda once posted\, can be found on the ICC webpage.
URL:https://www.mapc.org/event/icc-january-2025-meeting/
LOCATION:to be determined
CATEGORIES:Subregions,Community Engagement
ATTACH;FMTTYPE=image/png:https://www.mapc.org/wp-content/uploads/2018/06/ICC-logo-a.png
END:VEVENT
BEGIN:VEVENT
DTSTART;TZID=America/New_York:20250116T120000
DTEND;TZID=America/New_York:20250116T130000
DTSTAMP:20260420T090108
CREATED:20240826T160627Z
LAST-MODIFIED:20240826T160627Z
UID:21048-1737028800-1737032400@www.mapc.org
SUMMARY:Community Engagement Conversations | Establishing Relationship Foundations
DESCRIPTION:In this session of the Community Engagement Conversations series\, you will gain an understanding of how to build core foundational relationships with stakeholders\, members of your community\, partners\, and others. \nRegister \n\nThe Series:\nThe MAPC Community Engagement Team invites you to attend a series of Community Engagement Conversations between September 2024 through May 2025. \nThe once-a-month conversations will focus on different community engagement topics to support this work within your own community and introduce you to the services MAPC offers when you work with the MAPC Community Engagement Team. \nYou can learn more about each session of the series by visiting the Community Engagement Conversations webpage.  \nYou can register for as many of the sessions that you are interested in on one form. Register now!
URL:https://www.mapc.org/event/community-engagement-conversations-establishing-relationship-foundations/
LOCATION:Zoom (Virtual)
CATEGORIES:Community Engagement
ATTACH;FMTTYPE=image/png:https://www.mapc.org/wp-content/uploads/2024/08/CommunityEngagement_ConversationSeriesHeader.png
END:VEVENT
BEGIN:VEVENT
DTSTART;TZID=America/New_York:20250128T120000
DTEND;TZID=America/New_York:20250128T130000
DTSTAMP:20260420T090108
CREATED:20241210T200620Z
LAST-MODIFIED:20250116T175842Z
UID:22118-1738065600-1738069200@www.mapc.org
SUMMARY:Best Practices for Welcoming and Protecting Immigrant Communities (virtual)
DESCRIPTION:Please join MAPC and the Massachusetts Immigrant and Refugee Advocacy (MIRA) Coalition for this important webinar. You will hear from experts and municipal leaders about how to support immigrant residents in a time of heightened uncertainty and threats of increased immigration enforcement. \nPanelists will discuss strategies to keep immigrant communities informed and safe\, ensure that all individuals are treated equally regardless of immigration status\, and devote local resources to local priorities. \nRegister to Join Us
URL:https://www.mapc.org/event/save-the-date-best-practices-for-welcoming-and-protecting-immigrant-communities-virtual/
LOCATION:Zoom (Virtual)
CATEGORIES:Subregions,Community Engagement
ATTACH;FMTTYPE=image/png:https://www.mapc.org/wp-content/uploads/2024/12/image-133.png
END:VEVENT
END:VCALENDAR