BEGIN:VCALENDAR
VERSION:2.0
PRODID:-//MAPC - ECPv6.11.0.1//NONSGML v1.0//EN
CALSCALE:GREGORIAN
METHOD:PUBLISH
X-WR-CALNAME:MAPC
X-ORIGINAL-URL:https://www.mapc.org
X-WR-CALDESC:Events for MAPC
REFRESH-INTERVAL;VALUE=DURATION:PT1H
X-Robots-Tag:noindex
X-PUBLISHED-TTL:PT1H
BEGIN:VTIMEZONE
TZID:America/New_York
BEGIN:DAYLIGHT
TZOFFSETFROM:-0500
TZOFFSETTO:-0400
TZNAME:EDT
DTSTART:20250309T070000
END:DAYLIGHT
BEGIN:STANDARD
TZOFFSETFROM:-0400
TZOFFSETTO:-0500
TZNAME:EST
DTSTART:20251102T060000
END:STANDARD
END:VTIMEZONE
BEGIN:VEVENT
DTSTART;TZID=America/New_York:20250328T083000
DTEND;TZID=America/New_York:20250328T103000
DTSTAMP:20260420T045215
CREATED:20250113T201629Z
LAST-MODIFIED:20250212T193448Z
UID:22358-1743150600-1743157800@www.mapc.org
SUMMARY:MWRC and SWAP 2025 Legislative Breakfast
DESCRIPTION:MAPC’s Government Affairs Team and Subregional Coordinators invite you to join us for this joint MetroWest Regional Collaborative (MWRC) and SouthWest Advisory Planning Committee (SWAP) Legislative Breakfast. \nThis event will be in-person\, and we look forward to seeing you soon! \nRegister to Join Us!
URL:https://www.mapc.org/event/mwrc-and-swap-2025-legislative-breakfast/
LOCATION:Thayer Homestead\, 2B Oak Street\, Medway\, MA\, 02053\, United States
CATEGORIES:Subregions,Community Engagement,Government Affairs
ATTACH;FMTTYPE=image/png:https://www.mapc.org/wp-content/uploads/2025/01/image-137.png
END:VEVENT
END:VCALENDAR