BEGIN:VCALENDAR
VERSION:2.0
PRODID:-//MAPC - ECPv6.11.0.1//NONSGML v1.0//EN
CALSCALE:GREGORIAN
METHOD:PUBLISH
X-ORIGINAL-URL:https://www.mapc.org
X-WR-CALDESC:Events for MAPC
REFRESH-INTERVAL;VALUE=DURATION:PT1H
X-Robots-Tag:noindex
X-PUBLISHED-TTL:PT1H
BEGIN:VTIMEZONE
TZID:America/New_York
BEGIN:DAYLIGHT
TZOFFSETFROM:-0500
TZOFFSETTO:-0400
TZNAME:EDT
DTSTART:20250309T070000
END:DAYLIGHT
BEGIN:STANDARD
TZOFFSETFROM:-0400
TZOFFSETTO:-0500
TZNAME:EST
DTSTART:20251102T060000
END:STANDARD
END:VTIMEZONE
BEGIN:VEVENT
DTSTART;TZID=America/New_York:20250910T120000
DTEND;TZID=America/New_York:20250910T130000
DTSTAMP:20260424T115402
CREATED:20250730T144134Z
LAST-MODIFIED:20250730T144134Z
UID:24357-1757505600-1757509200@www.mapc.org
SUMMARY:Introducing the Climate Resilience Playbook: An Online Resource for Massachusetts Communities (webinar)
DESCRIPTION:Join the Metropolitan Area Planning Council (MAPC)\, Pioneer Valley Planning Commission (PVPC)\, and Executive Office of Energy and Environmental Affairs (EEA) for a webinar to officially launch the Climate Resilience Playbook (the Playbook). \nThe Playbook is an online interactive tool that local planners can use to identify and prioritize resilience actions for their communities. \nDuring the webinar you will learn more about the collaborative engagement process that shaped the Playbook\, its features\, and opportunities to help shape this evolving tool. \nRegister for the Playbook Webinar
URL:https://www.mapc.org/event/introducing-the-climate-resilience-playbook-an-online-resource-for-massachusetts-communities-webinar/
LOCATION:Virtual (Zoom)
CATEGORIES:Subregions,Clean Energy,Environment
ATTACH;FMTTYPE=image/png:https://www.mapc.org/wp-content/uploads/2025/07/ClimateResiliencePlaybookHeader-resized.png
END:VEVENT
END:VCALENDAR