BEGIN:VCALENDAR
VERSION:2.0
PRODID:-//MAPC - ECPv6.11.0.1//NONSGML v1.0//EN
CALSCALE:GREGORIAN
METHOD:PUBLISH
X-ORIGINAL-URL:https://www.mapc.org
X-WR-CALDESC:Events for MAPC
REFRESH-INTERVAL;VALUE=DURATION:PT1H
X-Robots-Tag:noindex
X-PUBLISHED-TTL:PT1H
BEGIN:VTIMEZONE
TZID:America/New_York
BEGIN:DAYLIGHT
TZOFFSETFROM:-0500
TZOFFSETTO:-0400
TZNAME:EDT
DTSTART:20260308T070000
END:DAYLIGHT
BEGIN:STANDARD
TZOFFSETFROM:-0400
TZOFFSETTO:-0500
TZNAME:EST
DTSTART:20261101T060000
END:STANDARD
END:VTIMEZONE
BEGIN:VEVENT
DTSTART;TZID=America/New_York:20260211T100000
DTEND;TZID=America/New_York:20260211T113000
DTSTAMP:20260423T113030
CREATED:20251211T172347Z
LAST-MODIFIED:20251211T172348Z
UID:25661-1770804000-1770809400@www.mapc.org
SUMMARY:MAPC Legislative Session Update and Advocacy Webinar
DESCRIPTION:Please register to join us for a Legislative Update and Advocacy webinar. \nRegister for the Webinar
URL:https://www.mapc.org/event/mapc-legislative-committee-meeting-8-2/
LOCATION:Virtual (Zoom) unless otherwise noted
CATEGORIES:Legislative Committee,Executive,Communications,Community Engagement,Government Affairs,Strategic Initiatives,MetroCommon,Government Affairs
ATTACH;FMTTYPE=image/png:https://www.mapc.org/wp-content/uploads/2025/03/MAPC-blue-Logo-01-1-1.png
END:VEVENT
END:VCALENDAR